BEGIN:VCALENDAR
VERSION:2.0
PRODID:-//Stolpner Käsemacherei - ECPv6.15.18//NONSGML v1.0//EN
CALSCALE:GREGORIAN
METHOD:PUBLISH
X-WR-CALNAME:Stolpner Käsemacherei
X-ORIGINAL-URL:https://xn--stolpner-ksemacherei-kzb.de
X-WR-CALDESC:Veranstaltungen für Stolpner Käsemacherei
REFRESH-INTERVAL;VALUE=DURATION:PT1H
X-Robots-Tag:noindex
X-PUBLISHED-TTL:PT1H
BEGIN:VTIMEZONE
TZID:Europe/Berlin
BEGIN:DAYLIGHT
TZOFFSETFROM:+0100
TZOFFSETTO:+0200
TZNAME:CEST
DTSTART:20250330T010000
END:DAYLIGHT
BEGIN:STANDARD
TZOFFSETFROM:+0200
TZOFFSETTO:+0100
TZNAME:CET
DTSTART:20251026T010000
END:STANDARD
BEGIN:DAYLIGHT
TZOFFSETFROM:+0100
TZOFFSETTO:+0200
TZNAME:CEST
DTSTART:20260329T010000
END:DAYLIGHT
BEGIN:STANDARD
TZOFFSETFROM:+0200
TZOFFSETTO:+0100
TZNAME:CET
DTSTART:20261025T010000
END:STANDARD
BEGIN:DAYLIGHT
TZOFFSETFROM:+0100
TZOFFSETTO:+0200
TZNAME:CEST
DTSTART:20270328T010000
END:DAYLIGHT
BEGIN:STANDARD
TZOFFSETFROM:+0200
TZOFFSETTO:+0100
TZNAME:CET
DTSTART:20271031T010000
END:STANDARD
END:VTIMEZONE
BEGIN:VEVENT
DTSTART;TZID=Europe/Berlin:20260425T180000
DTEND;TZID=Europe/Berlin:20260425T220000
DTSTAMP:20260421T211004
CREATED:20250715T062413Z
LAST-MODIFIED:20251001T055316Z
UID:1634-1777140000-1777154400@xn--stolpner-ksemacherei-kzb.de
SUMMARY:Käse selber machen | Ausgebucht
DESCRIPTION:
URL:https://xn--stolpner-ksemacherei-kzb.de/events/kaese-selber-machen-noch-10-freie-plaetze/
LOCATION:Stolpen\, Vorwerk 10\, Stolpen\, 01833\, Deutschland
ORGANIZER;CN="Stolpner K%C3%A4semacherei":MAILTO:stolpnerkaesemacherei@gmail.com
END:VEVENT
BEGIN:VEVENT
DTSTART;TZID=Europe/Berlin:20260509T180000
DTEND;TZID=Europe/Berlin:20260509T220000
DTSTAMP:20260421T211004
CREATED:20250715T062638Z
LAST-MODIFIED:20251125T072416Z
UID:1636-1778349600-1778364000@xn--stolpner-ksemacherei-kzb.de
SUMMARY:Käse selber machen | Ausgebucht
DESCRIPTION:
URL:https://xn--stolpner-ksemacherei-kzb.de/events/kaese-selber-machen-3/
LOCATION:Stolpen\, Vorwerk 10\, Stolpen\, 01833\, Deutschland
ORGANIZER;CN="Stolpner K%C3%A4semacherei":MAILTO:stolpnerkaesemacherei@gmail.com
END:VEVENT
BEGIN:VEVENT
DTSTART;TZID=Europe/Berlin:20260606T180000
DTEND;TZID=Europe/Berlin:20260606T220000
DTSTAMP:20260421T211004
CREATED:20250715T062759Z
LAST-MODIFIED:20251113T162110Z
UID:1638-1780768800-1780783200@xn--stolpner-ksemacherei-kzb.de
SUMMARY:Käse selber machen | Ausgebucht
DESCRIPTION:
URL:https://xn--stolpner-ksemacherei-kzb.de/events/kaese-selber-machen-7/
LOCATION:Stolpen\, Vorwerk 10\, Stolpen\, 01833\, Deutschland
ORGANIZER;CN="Stolpner K%C3%A4semacherei":MAILTO:stolpnerkaesemacherei@gmail.com
END:VEVENT
BEGIN:VEVENT
DTSTART;TZID=Europe/Berlin:20260912T180000
DTEND;TZID=Europe/Berlin:20260912T220000
DTSTAMP:20260421T211005
CREATED:20250715T063044Z
LAST-MODIFIED:20251125T125818Z
UID:1640-1789236000-1789250400@xn--stolpner-ksemacherei-kzb.de
SUMMARY:Käse selber machen | Ausgebucht
DESCRIPTION:
URL:https://xn--stolpner-ksemacherei-kzb.de/events/kaese-selber-machen-noch-12-freie-plaetze/
LOCATION:Stolpen\, Vorwerk 10\, Stolpen\, 01833\, Deutschland
ORGANIZER;CN="Stolpner K%C3%A4semacherei":MAILTO:stolpnerkaesemacherei@gmail.com
END:VEVENT
BEGIN:VEVENT
DTSTART;TZID=Europe/Berlin:20261009T180000
DTEND;TZID=Europe/Berlin:20261009T220000
DTSTAMP:20260421T211005
CREATED:20250715T063216Z
LAST-MODIFIED:20251113T070926Z
UID:1642-1791568800-1791583200@xn--stolpner-ksemacherei-kzb.de
SUMMARY:Käse selber machen | Ausgebucht
DESCRIPTION:
URL:https://xn--stolpner-ksemacherei-kzb.de/events/kaese-selber-machen-8/
LOCATION:Stolpen\, Vorwerk 10\, Stolpen\, 01833\, Deutschland
ORGANIZER;CN="Stolpner K%C3%A4semacherei":MAILTO:stolpnerkaesemacherei@gmail.com
END:VEVENT
BEGIN:VEVENT
DTSTART;TZID=Europe/Berlin:20261107T180000
DTEND;TZID=Europe/Berlin:20261107T220000
DTSTAMP:20260421T211005
CREATED:20250715T063407Z
LAST-MODIFIED:20251118T065302Z
UID:1644-1794074400-1794088800@xn--stolpner-ksemacherei-kzb.de
SUMMARY:Käse selber machen | Ausgebucht
DESCRIPTION:
URL:https://xn--stolpner-ksemacherei-kzb.de/events/kaese-selber-machen-9/
LOCATION:Stolpen\, Vorwerk 10\, Stolpen\, 01833\, Deutschland
ORGANIZER;CN="Stolpner K%C3%A4semacherei":MAILTO:stolpnerkaesemacherei@gmail.com
END:VEVENT
BEGIN:VEVENT
DTSTART;TZID=Europe/Berlin:20261212T180000
DTEND;TZID=Europe/Berlin:20261212T220000
DTSTAMP:20260421T211005
CREATED:20250715T063713Z
LAST-MODIFIED:20251023T065414Z
UID:1646-1797098400-1797112800@xn--stolpner-ksemacherei-kzb.de
SUMMARY:Käse selber machen | Ausgebucht
DESCRIPTION:
URL:https://xn--stolpner-ksemacherei-kzb.de/events/kaese-selber-machen-10/
LOCATION:Stolpen\, Vorwerk 10\, Stolpen\, 01833\, Deutschland
ORGANIZER;CN="Stolpner K%C3%A4semacherei":MAILTO:stolpnerkaesemacherei@gmail.com
END:VEVENT
END:VCALENDAR